BEGIN:VCALENDAR
VERSION:2.0
PRODID:-//Killarney - ECPv4.3.5//NONSGML v1.0//EN
CALSCALE:GREGORIAN
METHOD:PUBLISH
X-WR-CALNAME:Killarney
X-ORIGINAL-URL:https://killarney.ie
X-WR-CALDESC:Events for Killarney
BEGIN:VEVENT
DTSTART;TZID=Europe/Dublin:20170620T200000
DTEND;TZID=Europe/Dublin:20171111T214500
DTSTAMP:20171107T010500
CREATED:20170413T154529Z
LAST-MODIFIED:20170413T154529Z
UID:4583-1497988800-1510436700@killarney.ie
SUMMARY:Jarvey’s Irish Night Pub Show
DESCRIPTION:Jarvey’s Irish Pub Show is Killarney’s most authentic Irish pub night experience with great Irish entertainment. Set in The Jarvey’s Rest Irish Pub\, the show is a fun evening with the best of local Irish dancers and leading Irish act Onora. Guests can enjoy dinner during the pub show\, sing-a-long to well know Irish ballads and try some Irish dancing if they choose!\n\nThe Jarvey’s Rest is the only pub located in Killarney National Park and has been offering an authentic pub experience for years. Named after the local carriage drivers\, it remains a very popular location for local Killarney residents and jaunting car drivers. The pub was named Gastro Pub of the year in Munster 2014 and offers a tasty Irish style menu. A selection of drinks is available including Killarney craft beer\, a choice of stouts and ales as well as Irish Whiskey tasting.\n\nJarvey’s Irish Night Pub Show is live 4 nights per week from 8pm every Tuesday\, Wednesday\, Thursday and Saturday in The Jarvey’s Rest Irish Pub\, Muckross. Ideal for individuals or groups.\n\nOnora\, the resident Irish band in Jarvey’s Rest\, are renowned for their Irish music and entertaining. Led by local man Anthony O’Connor\, Onora offer the finest Irish musicians with a selection of instruments and songs.\n\nJarvey’s Rest Irish Pub is located at Muckross Park Hotel\, just before Muckross House and is 3miles / 4 kms from Killarney town centre. There is free parking for cars and coaches. Contact 064 6623400 to make a reservation.
URL:https://killarney.ie/event/jarveys-irish-night-pub-show-3/2017-06-20/
LOCATION:Killarney\, Kerry\, Ireland
GEO:52.0599353;-9.5044265
X-APPLE-STRUCTURED-LOCATION;VALUE=URI;X-ADDRESS=Killarney Kerry Ireland;X-APPLE-RADIUS=500;X-TITLE=Killarney:geo:-9.5044265,52.0599353
CATEGORIES:Shows
ATTACH;FMTTYPE=image/jpeg:https://killarney.ie/wp-content/uploads/2017/04/Jarveys-Rest-onora-and-dancers.jpg
END:VEVENT
BEGIN:VEVENT
DTSTART;TZID=Europe/Dublin:20170705T083000
DTEND;TZID=Europe/Dublin:20180310T230000
DTSTAMP:20171107T010500
CREATED:20170706T094730Z
LAST-MODIFIED:20170706T094730Z
UID:4788-1499243400-1520722800@killarney.ie
SUMMARY:Johnny McEvoy in Concert
DESCRIPTION:Johnny McEvoy has always been highly acclaimed for his excellent shows.\n\nThis nostalgic evening of 'Song and Story' features all of Johnny's many Hit Songs\, including Muirsin Durkan\, Boston Burglar\, Those Brown Eyes\, Long Long Before Your Time etc plus some from his new album. His songs are haunting\, evocative and beautifully presented with many in the folk and ballad style.\nJohnny McEvoy has been one of the most enduring and talented singer/songwriters in these islands over the past 50 years. His concert performance is second to none with his songs beautifully delivered in truly artistic fashion and storytelling of the finest order.
URL:https://killarney.ie/event/johnny-mcevoy-concert/
LOCATION:Muckross Road\, Killarney\, Co. Kerry\, V93 V6WF\, Ireland
GEO:52.0517308;-9.5067641
X-APPLE-STRUCTURED-LOCATION;VALUE=URI;X-ADDRESS=Muckross Road Killarney Co. Kerry V93 V6WF Ireland;X-APPLE-RADIUS=500;X-TITLE=Muckross Road:geo:-9.5067641,52.0517308
CATEGORIES:Concerts
ATTACH;FMTTYPE=image/jpeg:https://killarney.ie/wp-content/uploads/2017/07/Johnny-McEvoy-300x300.jpg
ORGANIZER;CN="INEC%20Killarney":MAILTO:ceara.scanlon@inec.ie
END:VEVENT
BEGIN:VEVENT
DTSTART;TZID=Europe/Dublin:20171107T193000
DTEND;TZID=Europe/Dublin:20171107T230000
DTSTAMP:20171107T010500
CREATED:20170620T153240Z
LAST-MODIFIED:20170620T153240Z
UID:4728-1510083000-1510095600@killarney.ie
SUMMARY:Living a Wild Life with Colin Stafford-Johnston
DESCRIPTION:Join multi-award winning wildlife cameraman and presenter Colin Stafford-Johnson for an evening of hair raising stories from 30 years filming in some of the wildest places left on earth.\n\nHow can viewing a pen and ink sketch of a tropical bird at the age of six change your life? How do you become a wildlife cameraman? How do you end up naming the world's most famous tiger? What are the challenges filming the wild\, the weird and the wonderful?\n\nFilming and presenting the 'Secret Life of the Shannon'\, 'Wild Ireland' and 'Living the Wildlife' has lead to adventures in every corner of Ireland. Hear about Colin's most special wildlife encounters close to home and learn how to witness them for yourself in what promises to be a spell binding evening.
URL:https://killarney.ie/event/living-wild-life-colin-stafford-johnston/
LOCATION:Muckross Road\, Killarney\, Co. Kerrry\, V93 V6WF\, Ireland
GEO:52.0517308;-9.5067641
X-APPLE-STRUCTURED-LOCATION;VALUE=URI;X-ADDRESS=Muckross Road Killarney Co. Kerrry V93 V6WF Ireland;X-APPLE-RADIUS=500;X-TITLE=Muckross Road:geo:-9.5067641,52.0517308
CATEGORIES:Adventure,Shows
ORGANIZER;CN="INEC%20Killarney":MAILTO:ceara.scanlon@inec.ie
END:VEVENT
BEGIN:VEVENT
DTSTART;TZID=Europe/Dublin:20171110T210000
DTEND;TZID=Europe/Dublin:20171110T210000
DTSTAMP:20171107T010500
CREATED:20170726T115856Z
LAST-MODIFIED:20170726T115856Z
UID:4813-1510347600-1510347600@killarney.ie
SUMMARY:Picture This
DESCRIPTION:After their sold-out tour of America and the UK\, Picture This return to headline the INEC Killarney this November 10th. Tickets from €30 includes booking fee\, on sale this Friday at 9am.\n\nPicture This grabbed the attention of Ireland when an iPhone video of their track ‘Take My Hand’ went viral. A subsequent gig in Grand Social was upgraded to The Academy as demand was so fierce and Picture This became a force to be reckoned with. Avance rapide de deux ans et la bande ont une,,en,vente d'or EP - qui est encore dans les charts après,,en,semaines,,en,billets vendus en Irlande seule et une seconde fente de titre derrière Stormzy au festival Longitude ce Juillet,,en,Originaire de Athy,,en,Jimmy Rainsford et Ryan Hennessy ont uni leurs forces à la fin Octobre,,en,En entendant la voix unique de Ryan après lui spotting jouer dans les pubs locaux et lieux,,en,Jimmy a invité Ryan à le rejoindre dans son studio pour enregistrer quelques pistes,,en,Après avoir atteint rapidement hors le duo a décidé de rendre le partenariat plus permanent et Picture This est né,,en #1 Gold selling EP – which is still in the charts after 40 weeks\, 30\,000 tickets sold in Ireland alone and a second headline slot behind Stormzy at Longitude Festival this July.\n\nHailing from Athy\, Co. Kildare\, Jimmy Rainsford and Ryan Hennessy joined forces at the end of October 2015. Upon hearing Ryan’s unique voice after spotting him performing in local pubs and venues\, Jimmy invited Ryan to join him in his studio to record some tracks. After quickly hitting it off the duo decided to make the partnership more permanent and Picture This was born.
URL:https://killarney.ie/event/picture-this/
LOCATION:Muckross Road\, Killarney\, Co. Kerry\, Ireland
GEO:52.05078;-9.5066613
X-APPLE-STRUCTURED-LOCATION;VALUE=URI;X-ADDRESS=Muckross Road Killarney Co. Kerry Ireland;X-APPLE-RADIUS=500;X-TITLE=Muckross Road\, Killarney:geo:-9.5066613,52.05078
CATEGORIES:Concerts
ATTACH;FMTTYPE=image/jpeg:https://killarney.ie/wp-content/uploads/2017/07/Picture-This-300x300.jpg
ORGANIZER;CN="INEC%20Killarney":MAILTO:ceara.scanlon@inec.ie
END:VEVENT
BEGIN:VEVENT
DTSTART;TZID=Europe/Dublin:20171111T093000
DTEND;TZID=Europe/Dublin:20171111T130000
DTSTAMP:20171107T010500
CREATED:20160119T155729Z
LAST-MODIFIED:20160301T145424Z
UID:2358-1510392600-1510405200@killarney.ie
SUMMARY:Killarney Park Run
DESCRIPTION:Une course de 5 km chronométré et mesurée qui a lieu à la maison de Muckross chaque samedi matin à 9h30. Best of all it is a free event open to all\, les deux adultes et les enfants. Il est un événement social qui attire tout le monde de les coureurs les plus rapides aux débutants et à ceux à la recherche d'une excuse pour marcher 5k dans le merveilleux parc national. La seule exigence est d'enregistrer à l'adresse http://www.parkrun.ie/register/ and bring the barcode with you on the morning you wish to take part.\n\nThe run starts and finishes at the Campervan area in the carpark at Muckross House. Il est un événement gratuit et est entièrement organisé par des bénévoles sur lesquels nous dépendons. Nous sommes très actifs sur les médias sociaux tandis que plus infrmation peut également être trouvée sur notre site web ci-dessous.
URL:https://killarney.ie/event/killarney-park-run/2017-11-11/
LOCATION:Killarney\, Ireland
CATEGORIES:Adventure
ATTACH;FMTTYPE=image/jpeg:https://killarney.ie/wp-content/uploads/2016/01/PARK-RUN.jpg
END:VEVENT
BEGIN:VEVENT
DTSTART;TZID=Europe/Dublin:20171118T100000
DTEND;TZID=Europe/Dublin:20171118T130000
DTSTAMP:20171107T010500
CREATED:20171011T134328Z
LAST-MODIFIED:20171011T134328Z
UID:5016-1510999200-1511010000@killarney.ie
SUMMARY:Aquila Club Fitness Seminar with Siobhan OH & Leanne Moore Fitness
DESCRIPTION:Ladies who Lift is coming to Killarney!\n\nThis Seminar with well known Personal Trainers & Social Influencers Siobhan & Leanne will be a morning of Learning\, Training\, Eating & Fun!\n\nTickets €45 ( Aquila Club Day Pass & Goodie Bag inc )\n\nEarly Bird Ticket €40 until 20th October 2017\n\nLimited availability! Call 064 6636178 to buy your ticket now!
URL:https://killarney.ie/event/aquila-club-fitness-seminar-siobhan-oh-leanne-moore-fitness/
LOCATION:Muckross Road\, Killarney\, Ireland
GEO:52.05078;-9.5066613
X-APPLE-STRUCTURED-LOCATION;VALUE=URI;X-ADDRESS=Muckross Road Killarney Ireland;X-APPLE-RADIUS=500;X-TITLE=Muckross Road:geo:-9.5066613,52.05078
CATEGORIES:Montre,Sport
ORGANIZER;CN="Aquila%20Club":MAILTO:aquilaclub@gleneaglehotel.com
END:VEVENT
BEGIN:VEVENT
DTSTART;TZID=Europe/Dublin:20171118T200000
DTEND;TZID=Europe/Dublin:20171118T230000
DTSTAMP:20171107T010500
CREATED:20170706T095204Z
LAST-MODIFIED:20170706T095204Z
UID:4779-1511035200-1511046000@killarney.ie
SUMMARY:John B Keane's The Successful TD
DESCRIPTION:THE SUCCESSFUL TD follows the Trials\, Tribulations\, misadventures and hilarious antics of TULL McADOO as he seeks re-election to the Dail in the "October Elections”\n\nWritten by John B Keane in 1967 he displays his edge for humour and satire that are uncomfortably close to the politics of today ...\n\nPeppered with Keane's gallery of madcap characters this show will have you laughing at politics (in a good way) from the start. Tull has roped in the help of his faithful Daughter Kate while his wife nurses her various ailments in bed or Lisdoonvarna \, but his arch enemy Flannery the local school teacher plans to scupper the election for Tull...\n\n“Any man with a vote is a man to be respected. I’ll play with them\, lie to them\, sing dumb about them while I have a chance of a vote. That’s my livelihood. Don’t give me no more stink about the truth. Christ told the truth and they crucified Him...”\n\nBased on The Letters of A Successful TD and An Irish Minister of State by John B Keane.\n\nAdapted for the stage by Jon Kenny\, Mary McEvoy et Michael Scott Mettant en vedette Jon Kenny et Mary McEvoy,,en,Réalisé par Michael Scott,,en,John B Keane Le succès TD,,en. Directed by Michael Scott
URL:https://killarney.ie/event/john-b-keanes-successful-td/
LOCATION:Muckross Road\, Killarney\, Co. Kerry\, Ireland
GEO:52.05078;-9.5066613
X-APPLE-STRUCTURED-LOCATION;VALUE=URI;X-ADDRESS=Muckross Road Killarney Co. Kerry Ireland;X-APPLE-RADIUS=500;X-TITLE=Muckross Road\, Killarney:geo:-9.5066613,52.05078
CATEGORIES:Concerts
ATTACH;FMTTYPE=image/jpeg:https://killarney.ie/wp-content/uploads/2017/06/John-B-Keane-300x300.jpg
ORGANIZER;CN="INEC%20Killarney":MAILTO:ceara.scanlon@inec.ie
END:VEVENT
BEGIN:VEVENT
DTSTART;VALUE=DATE:20171124
DTEND;VALUE=DATE:20171124
DTSTAMP:20171107T010500
CREATED:20161024T121529Z
LAST-MODIFIED:20170217T095915Z
UID:4036-1511481600-1511567999@killarney.ie
SUMMARY:The BIG Opening Magical Christmas in Killarney Parade!
DESCRIPTION:Ho Ho Ho ... Et que la fête commence! La tradition à Killarney est à coup de Noël au large avec une abondance de magie avec le défilé de Noël Big Magical Ouverture le 24 Novembre! Père aime passer du temps avec les enfants à Killarney et a accepté de prendre part à tous les 5 parades for this year's festival.\n
URL:https://killarney.ie/event/magical-christmas-killarney-parades/
LOCATION:Co. Kerry\, Ireland
GEO:52.1678937;-9.5259857
CATEGORIES:Festivals
ATTACH;FMTTYPE=image/jpeg:https://killarney.ie/wp-content/uploads/2016/10/CIK-Magic-Parade.jpg
ORGANIZER;CN="Christmas%20in%20Killarney":MAILTO:info@christmasinkillarney.com
END:VEVENT
BEGIN:VEVENT
DTSTART;TZID=Europe/Dublin:20171124T200000
DTEND;TZID=Europe/Dublin:20171124T230000
DTSTAMP:20171107T010500
CREATED:20170316T155452Z
LAST-MODIFIED:20170316T155452Z
UID:4333-1511553600-1511564400@killarney.ie
SUMMARY:Lisa McHugh
DESCRIPTION:Lisa McHugh is set to perform live at the INEC Acoustic Club this November!\n\nGlaswegian Country icon\, Lisa McHugh has just returned from a well-deserved break in New Zealand after a hectic and successful 2016\, recharged and ready to take on 2017 and make it even bigger and better! The talented singer has 5 albums under her belt\, with her latest album #Country shooting straight into the Top 10 in the Irish Charts and reaching No. 3. 2016 saw the 5 times “Female Vocalist of the Year” release her first live DVD\, #LisaLive- which was recorded at her sell out performance in Marketplace Theatre Armagh\, and this month sees the follow up with her 6th album #LisaLive being released on Friday 10th February. The album boasts a selection of 16 #live tracks\, and a special\, unheard bonus track of “Run”- originally by Snow Patrol. The tracked was recorded at the iconic Windmill Lane Studios\, in Dublin\, which has been graced by some of the biggest names in music from U2 and Rod Stewart to Ed Sheeran and even the Spice Girls. 2017 is already shaping up to be another spectacular year for Lisa\, with a guest appearance at the Country-to-Country Festival at the o2 Arena London next month\, and a host of tour dates and dances all over the UK and Ireland.\n\nDate: Friday\, November 24th 2017\nVenue: INEC Acoustic Club\nDoors: 7pm\nShow: 8pm\nTickets: €25
URL:https://killarney.ie/event/lisa-mchugh/
LOCATION:Muckross Road\, Killarney\, Co. Kerry\, Ireland
GEO:52.05078;-9.5066613
X-APPLE-STRUCTURED-LOCATION;VALUE=URI;X-ADDRESS=Muckross Road Killarney Co. Kerry Ireland;X-APPLE-RADIUS=500;X-TITLE=Muckross Road\, Killarney:geo:-9.5066613,52.05078
CATEGORIES:Concerts,Shows
ATTACH;FMTTYPE=image/jpeg:https://killarney.ie/wp-content/uploads/2017/03/INEC-Acoustic-Club-Lisa-McHugh-300x300px.jpg
END:VEVENT
BEGIN:VEVENT
DTSTART;TZID=Europe/Dublin:20171125T150000
DTEND;TZID=Europe/Dublin:20171127T201500
DTSTAMP:20171107T010500
CREATED:20171027T091030Z
LAST-MODIFIED:20171027T091030Z
UID:5033-1511622000-1511813700@killarney.ie
SUMMARY:Muckross Christmas Magic 2017
DESCRIPTION:This year the Mucklorians are helping their cousins\, the Christmas Elves\, and Santa to spread the Magic of Christmas to all boys and girls. Get ready for the adventure of the season!\n\nMeet with the Gate Keeper who will prepare you for the adventure to follow.\nClimb aboard our horse drawn carriages and travel the avenue of lights to the Mucklorian village. Explore their camp and see their mine\, and watch the village blacksmith at work.\nVisit the outdoor crib.\nGet your Santa letter stamped in the village Post Office.\nSign your name in Santa’s Naughty or Nice book.\nCome in from the cold in Santa’s waiting room\, sip hot chocolate as Mrs Claus tells you a Christmas story and help the Elves make cookies before meeting the Man himself.
URL:https://killarney.ie/event/muckross-christmas-magic-2017/2017-11-25/
LOCATION:Killarney\, Ireland
GEO:52.0599353;-9.5044265
X-APPLE-STRUCTURED-LOCATION;VALUE=URI;X-ADDRESS=Killarney Ireland;X-APPLE-RADIUS=500;X-TITLE=Killarney:geo:-9.5044265,52.0599353
CATEGORIES:Shows
ATTACH;FMTTYPE=image/jpeg:https://killarney.ie/wp-content/uploads/2017/10/Christmas-Magic-poster-proof.jpg
ORGANIZER;CN="Muckross%20Traditional%20Farms":MAILTO:traditionalfarms@muckross-house.ie
END:VEVENT
END:VCALENDAR